BEGIN:VCALENDAR
VERSION:2.0
PRODID:-//ARFC - Aldermaston Rugby Football Club - ECPv6.15.20//NONSGML v1.0//EN
CALSCALE:GREGORIAN
METHOD:PUBLISH
X-WR-CALNAME:ARFC - Aldermaston Rugby Football Club
X-ORIGINAL-URL:https://aldermastonrugby.co.uk
X-WR-CALDESC:Events for ARFC - Aldermaston Rugby Football Club
REFRESH-INTERVAL;VALUE=DURATION:PT1H
X-Robots-Tag:noindex
X-PUBLISHED-TTL:PT1H
BEGIN:VTIMEZONE
TZID:Europe/Paris
BEGIN:DAYLIGHT
TZOFFSETFROM:+0100
TZOFFSETTO:+0200
TZNAME:CEST
DTSTART:20220327T010000
END:DAYLIGHT
BEGIN:STANDARD
TZOFFSETFROM:+0200
TZOFFSETTO:+0100
TZNAME:CET
DTSTART:20221030T010000
END:STANDARD
BEGIN:DAYLIGHT
TZOFFSETFROM:+0100
TZOFFSETTO:+0200
TZNAME:CEST
DTSTART:20230326T010000
END:DAYLIGHT
BEGIN:STANDARD
TZOFFSETFROM:+0200
TZOFFSETTO:+0100
TZNAME:CET
DTSTART:20231029T010000
END:STANDARD
BEGIN:DAYLIGHT
TZOFFSETFROM:+0100
TZOFFSETTO:+0200
TZNAME:CEST
DTSTART:20240331T010000
END:DAYLIGHT
BEGIN:STANDARD
TZOFFSETFROM:+0200
TZOFFSETTO:+0100
TZNAME:CET
DTSTART:20241027T010000
END:STANDARD
END:VTIMEZONE
BEGIN:VEVENT
DTSTART;TZID=Europe/Paris:20230924T200000
DTEND;TZID=Europe/Paris:20230924T220000
DTSTAMP:20260421T132348
CREATED:20230830T220959Z
LAST-MODIFIED:20230830T224603Z
UID:4997-1695585600-1695592800@aldermastonrugby.co.uk
SUMMARY:Pool C - Wales Vs Australia
DESCRIPTION:The excitement doesn’t stop! On Sunday\, 9/24/2023 at 20:00\, Wales will take on Australia at Aldermaston Recreational Society. The venue promises a lively experience\, making it a must-visit for all fans. Meet up with friends\, enjoy the social element\, and bond over the love of the sport.
URL:https://aldermastonrugby.co.uk/event/pool-c-wales-vs-australia/
LOCATION:Aldermaston Rec Soc\, Aldermaston Recreational Society\, Aldermaston\, Berkshire\, RG7 4PR\, United Kingdom
CATEGORIES:Active,All,Social
END:VEVENT
BEGIN:VEVENT
DTSTART;TZID=Europe/Paris:20230924T163000
DTEND;TZID=Europe/Paris:20230924T183000
DTSTAMP:20260421T132348
CREATED:20230830T220901Z
LAST-MODIFIED:20230830T224557Z
UID:4995-1695573000-1695580200@aldermastonrugby.co.uk
SUMMARY:Pool B - Scotland Vs Tonga
DESCRIPTION:On Sunday\, 9/24/2023 at 16:45\, Scotland will challenge Tonga at Aldermaston Recreational Society. The venue’s infectious energy ensures fans are in for a treat. It’s the perfect setting to meet up\, share a drink\, and enjoy the game with fellow enthusiasts.
URL:https://aldermastonrugby.co.uk/event/pool-b-scotland-vs-tonga/
LOCATION:Aldermaston Rec Soc\, Aldermaston Recreational Society\, Aldermaston\, Berkshire\, RG7 4PR\, United Kingdom
CATEGORIES:Active,All,Social
END:VEVENT
BEGIN:VEVENT
DTSTART;TZID=Europe/Paris:20230923T200000
DTEND;TZID=Europe/Paris:20230923T220000
DTSTAMP:20260421T132348
CREATED:20230830T220813Z
LAST-MODIFIED:20230830T220813Z
UID:4993-1695499200-1695506400@aldermastonrugby.co.uk
SUMMARY:Pool B - South Africa Vs Ireland
DESCRIPTION:Wrapping up the day on Saturday\, 9/23/2023 at 20:00\, South Africa will face Ireland at Aldermaston Rugby Club. The venue’s energetic ambiance promises a thrilling experience. Join fellow fans\, share a toast\, and revel in the shared passion for the game.
URL:https://aldermastonrugby.co.uk/event/pool-b-south-africa-vs-ireland/
LOCATION:Aldermaston RFC\, Aldermaston Rugby Club\, AWE\, Aldermaston\, RG7 4PR\, United Kingdom
CATEGORIES:Active,All,Social
END:VEVENT
BEGIN:VEVENT
DTSTART;TZID=Europe/Paris:20230923T163000
DTEND;TZID=Europe/Paris:20230923T183000
DTSTAMP:20260421T132348
CREATED:20230830T220715Z
LAST-MODIFIED:20230830T220715Z
UID:4991-1695486600-1695493800@aldermastonrugby.co.uk
SUMMARY:Pool D - England Vs Chile
DESCRIPTION:Don’t miss out on Saturday\, 9/23/2023 at 16:45\, when England competes against Chile at Aldermaston Rugby Club. The venue’s electric atmosphere guarantees an unforgettable experience. Gather your friends\, indulge in some drinks\, and immerse yourself in the game’s excitement.
URL:https://aldermastonrugby.co.uk/event/pool-d-england-vs-chile/
LOCATION:Aldermaston RFC\, Aldermaston Rugby Club\, AWE\, Aldermaston\, RG7 4PR\, United Kingdom
CATEGORIES:Active,All,Social
END:VEVENT
BEGIN:VEVENT
DTSTART;TZID=Europe/Paris:20230923T150000
DTEND;TZID=Europe/Paris:20230923T180000
DTSTAMP:20260421T132348
CREATED:20230830T183152Z
LAST-MODIFIED:20230904T165518Z
UID:4861-1695481200-1695492000@aldermastonrugby.co.uk
SUMMARY:Aldermaston XV Vs. Farnham Royal XV
DESCRIPTION:🏉 Aldermaston XV vs. FARNHAM ROYAL 🏉\nThe rugby fever is on! Aldermaston XV is all set to lock horns with FARNHAM ROYAL. Feel the ground shake and the air electrify as these two teams battle it out. Mark your calendars and be part of this unforgettable match!
URL:https://aldermastonrugby.co.uk/event/aldermaston-xv-vs-farnham-royal-xv/
LOCATION:Farnham Royal RFC\, Farnham Royal\, Slough\, Slough\, SL2 3BP\, United Kingdom
END:VEVENT
BEGIN:VEVENT
DTSTART;TZID=Europe/Paris:20230923T130000
DTEND;TZID=Europe/Paris:20230923T150000
DTSTAMP:20260421T132348
CREATED:20230830T220630Z
LAST-MODIFIED:20230830T220630Z
UID:4989-1695474000-1695481200@aldermastonrugby.co.uk
SUMMARY:Pool C - Georgia Vs Portugal
DESCRIPTION:The action continues on Saturday\, 9/23/2023 at 13:00\, as Georgia challenges Portugal at Aldermaston Rugby Club. The venue’s lively environment ensures a game-watching experience like no other. It’s the perfect opportunity to socialize\, share insights\, and bond over the love of the sport.
URL:https://aldermastonrugby.co.uk/event/pool-c-georgia-vs-portugal/
LOCATION:Aldermaston RFC\, Aldermaston Rugby Club\, AWE\, Aldermaston\, RG7 4PR\, United Kingdom
CATEGORIES:Active,All,Social
END:VEVENT
BEGIN:VEVENT
DTSTART;TZID=Europe/Paris:20230922T163000
DTEND;TZID=Europe/Paris:20230922T183000
DTSTAMP:20260421T132348
CREATED:20230830T220525Z
LAST-MODIFIED:20230830T220525Z
UID:4987-1695400200-1695407400@aldermastonrugby.co.uk
SUMMARY:Pool D - Argentina Vs Samoa
DESCRIPTION:On Friday\, 9/22/2023 at 16:45\, witness the thrilling face-off between Argentina and Samoa at Aldermaston Rugby Club. The venue promises an atmosphere like no other\, perfect for catching up with friends and fellow enthusiasts. Share in the collective excitement\, grab a drink\, and celebrate every moment.
URL:https://aldermastonrugby.co.uk/event/pool-d-argentina-vs-samoa/
LOCATION:Aldermaston RFC\, Aldermaston Rugby Club\, AWE\, Aldermaston\, RG7 4PR\, United Kingdom
CATEGORIES:Active,All,Social
END:VEVENT
BEGIN:VEVENT
DTSTART;TZID=Europe/Paris:20230921T200000
DTEND;TZID=Europe/Paris:20230921T220000
DTSTAMP:20260421T132348
CREATED:20230830T220335Z
LAST-MODIFIED:20230830T224314Z
UID:4985-1695326400-1695333600@aldermastonrugby.co.uk
SUMMARY:Pool A - France Vs Namibia
DESCRIPTION:The stakes are high on Thursday\, 9/21/2023 at 20:00\, when France faces Namibia at Aldermaston Recreational Society. The venue is known for its vibrant energy\, making it a top spot for fans to converge. Join the community\, enjoy the social element\, and cheer for your favorite team.
URL:https://aldermastonrugby.co.uk/event/pool-a-france-vs-namibia/
LOCATION:Aldermaston Rec Soc\, Aldermaston Recreational Society\, Aldermaston\, Berkshire\, RG7 4PR\, United Kingdom
CATEGORIES:Active,All,Social
END:VEVENT
BEGIN:VEVENT
DTSTART;TZID=Europe/Paris:20230920T163000
DTEND;TZID=Europe/Paris:20230920T183000
DTSTAMP:20260421T132348
CREATED:20230830T220241Z
LAST-MODIFIED:20230830T224552Z
UID:4983-1695227400-1695234600@aldermastonrugby.co.uk
SUMMARY:Pool A - Italy Vs Uruguay
DESCRIPTION:On Wednesday\, 9/20/2023 at 16:45\, gear up for an intense match as Italy takes on Uruguay at Aldermaston Recreational Society. The venue’s ambiance is electric\, ensuring a memorable experience. Gather with fellow fans\, share a drink\, and dive into the thrilling world of the game.
URL:https://aldermastonrugby.co.uk/event/pool-a-italy-vs-uruguay/
LOCATION:Aldermaston Rec Soc\, Aldermaston Recreational Society\, Aldermaston\, Berkshire\, RG7 4PR\, United Kingdom
CATEGORIES:Active,All,Social
END:VEVENT
BEGIN:VEVENT
DTSTART;TZID=Europe/Paris:20230917T200000
DTEND;TZID=Europe/Paris:20230917T220000
DTSTAMP:20260421T132348
CREATED:20230830T220120Z
LAST-MODIFIED:20230830T224546Z
UID:4981-1694980800-1694988000@aldermastonrugby.co.uk
SUMMARY:Pool D - England Vs Japan
DESCRIPTION:Concluding the day’s events on Sunday\, 9/17/2023 at 20:00\, England will take on Japan at Aldermaston Recreational Society. The venue is a hub of excitement and camaraderie\, offering fans a chance to connect and share their passion. Don’t miss this chance to be part of an unforgettable experience\, complete with drinks\, friends\, and thrilling gameplay.
URL:https://aldermastonrugby.co.uk/event/pool-d-england-vs-japan/
LOCATION:Aldermaston Rec Soc\, Aldermaston Recreational Society\, Aldermaston\, Berkshire\, RG7 4PR\, United Kingdom
CATEGORIES:Active,All,Social
END:VEVENT
BEGIN:VEVENT
DTSTART;TZID=Europe/Paris:20230917T163000
DTEND;TZID=Europe/Paris:20230917T183000
DTSTAMP:20260421T132348
CREATED:20230830T220028Z
LAST-MODIFIED:20230830T224540Z
UID:4979-1694968200-1694975400@aldermastonrugby.co.uk
SUMMARY:Pool C - Australia Vs Fiji
DESCRIPTION:The excitement continues on Sunday\, 9/17/2023 at 16:45\, as Australia competes against Fiji at Aldermaston Recreational Society. The venue’s atmosphere is unparalleled\, ensuring an unforgettable experience. Meet up with friends\, enjoy the social element\, and bond over the love of the sport.
URL:https://aldermastonrugby.co.uk/event/pool-c-australia-vs-fiji/
LOCATION:Aldermaston Rec Soc\, Aldermaston Recreational Society\, Aldermaston\, Berkshire\, RG7 4PR\, United Kingdom
CATEGORIES:Active,All,Social
END:VEVENT
BEGIN:VEVENT
DTSTART;TZID=Europe/Paris:20230917T140000
DTEND;TZID=Europe/Paris:20230917T160000
DTSTAMP:20260421T132348
CREATED:20230830T215854Z
LAST-MODIFIED:20230830T224534Z
UID:4977-1694959200-1694966400@aldermastonrugby.co.uk
SUMMARY:Pool B - South Africa Vs Romania
DESCRIPTION:On Sunday\, 9/17/2023 at 14:00\, South Africa will challenge Romania at Aldermaston Recreational Society. The venue’s infectious energy ensures fans are in for a treat. It’s the perfect setting to catch up\, share a drink\, and enjoy the game with fellow fans.
URL:https://aldermastonrugby.co.uk/event/pool-b-south-africa-vs-romania/
LOCATION:Aldermaston Rec Soc\, Aldermaston Recreational Society\, Aldermaston\, Berkshire\, RG7 4PR\, United Kingdom
CATEGORIES:Active,All,Social
END:VEVENT
BEGIN:VEVENT
DTSTART;TZID=Europe/Paris:20230916T200000
DTEND;TZID=Europe/Paris:20230916T220000
DTSTAMP:20260421T132348
CREATED:20230830T215801Z
LAST-MODIFIED:20230830T215801Z
UID:4975-1694894400-1694901600@aldermastonrugby.co.uk
SUMMARY:Pool B - Ireland Vs Tonga
DESCRIPTION:Wrapping up the day on Saturday\, 9/16/2023 at 20:00\, Ireland will face Tonga at Aldermaston Rugby Club. The venue’s energetic environment guarantees a thrilling experience. Join fellow enthusiasts\, share a toast\, and revel in the shared passion for the game.
URL:https://aldermastonrugby.co.uk/event/pool-b-ireland-vs-tonga/
LOCATION:Aldermaston RFC\, Aldermaston Rugby Club\, AWE\, Aldermaston\, RG7 4PR\, United Kingdom
CATEGORIES:Active,All,Social
END:VEVENT
BEGIN:VEVENT
DTSTART;TZID=Europe/Paris:20230916T163000
DTEND;TZID=Europe/Paris:20230916T183000
DTSTAMP:20260421T132348
CREATED:20230830T215710Z
LAST-MODIFIED:20230830T215710Z
UID:4973-1694881800-1694889000@aldermastonrugby.co.uk
SUMMARY:Pool C - Wales Vs Portugal
DESCRIPTION:Don’t miss the action on Saturday\, 9/16/2023 at 16:45\, when Wales takes on Portugal at Aldermaston Rugby Club. The venue promises a lively experience\, making it a must-visit for all fans. Meet up with friends\, enjoy a drink\, and immerse yourself in the exhilarating gameplay.
URL:https://aldermastonrugby.co.uk/event/pool-c-wales-vs-portugal/
LOCATION:Aldermaston RFC\, Aldermaston Rugby Club\, AWE\, Aldermaston\, RG7 4PR\, United Kingdom
CATEGORIES:Active,All,Social
END:VEVENT
BEGIN:VEVENT
DTSTART;TZID=Europe/Paris:20230916T150000
DTEND;TZID=Europe/Paris:20230916T180000
DTSTAMP:20260421T132348
CREATED:20230830T182917Z
LAST-MODIFIED:20230915T092414Z
UID:4857-1694876400-1694887200@aldermastonrugby.co.uk
SUMMARY:Aldermaston XV Vs\, Bracknell 3s
DESCRIPTION:🏉 Aldermaston XV vs. BRACKNELL 3 🏉\nThe pitch is set and the stakes are high! Aldermaston XV is gearing up to face BRACKNELL 3 this Saturday. Witness the clash of titans\, where strategy meets strength. Be there to cheer\, shout\, and experience rugby like never before!
URL:https://aldermastonrugby.co.uk/event/aldermaston-xv-vs-bracknell-3s/
LOCATION:Aldermaston RFC\, Aldermaston Rugby Club\, AWE\, Aldermaston\, RG7 4PR\, United Kingdom
CATEGORIES:Active,All,Game
END:VEVENT
BEGIN:VEVENT
DTSTART;TZID=Europe/Paris:20230916T140000
DTEND;TZID=Europe/Paris:20230916T160000
DTSTAMP:20260421T132348
CREATED:20230830T215624Z
LAST-MODIFIED:20230830T215624Z
UID:4971-1694872800-1694880000@aldermastonrugby.co.uk
SUMMARY:Pool D - Samoa Vs Chile
DESCRIPTION:On Saturday\, 9/16/2023 at 14:00\, Samoa and Chile will battle it out at Aldermaston Rugby Club. The venue is a hotspot for fans\, offering an unparalleled atmosphere. It’s the perfect opportunity to socialize\, share game insights\, and enjoy the company of like-minded individuals.
URL:https://aldermastonrugby.co.uk/event/pool-d-samoa-vs-chile/
LOCATION:Aldermaston RFC\, Aldermaston Rugby Club\, AWE\, Aldermaston\, RG7 4PR\, United Kingdom
CATEGORIES:Active,All,Social
END:VEVENT
BEGIN:VEVENT
DTSTART;TZID=Europe/Paris:20230915T200000
DTEND;TZID=Europe/Paris:20230915T220000
DTSTAMP:20260421T132348
CREATED:20230830T215522Z
LAST-MODIFIED:20230830T215522Z
UID:4969-1694808000-1694815200@aldermastonrugby.co.uk
SUMMARY:Pool A - New Zealand Vs Namibia
DESCRIPTION:The action heats up on Friday\, 9/15/2023 at 20:00\, as New Zealand challenges Namibia at Aldermaston Rugby Club. The venue’s vibrant ambiance ensures a memorable game-watching experience. Gather your friends\, indulge in some drinks\, and bond over the love of the sport.
URL:https://aldermastonrugby.co.uk/event/pool-a-new-zealand-vs-namibia/
LOCATION:Aldermaston RFC\, Aldermaston Rugby Club\, AWE\, Aldermaston\, RG7 4PR\, United Kingdom
CATEGORIES:Active,All,Social
END:VEVENT
BEGIN:VEVENT
DTSTART;TZID=Europe/Paris:20230914T200000
DTEND;TZID=Europe/Paris:20230914T220000
DTSTAMP:20260421T132348
CREATED:20230830T215414Z
LAST-MODIFIED:20230830T224528Z
UID:4967-1694721600-1694728800@aldermastonrugby.co.uk
SUMMARY:Pool A - France Vs Uruguay
DESCRIPTION:On Thursday\, 9/14/2023 at 20:00\, witness the intense face-off between France and Uruguay at Aldermaston Recreational Society. The venue’s electric atmosphere promises an unforgettable experience. Join the community of fans\, share a toast\, and enjoy the shared passion for the sport.
URL:https://aldermastonrugby.co.uk/event/pool-a-france-vs-uruguay/
LOCATION:Aldermaston Rec Soc\, Aldermaston Recreational Society\, Aldermaston\, Berkshire\, RG7 4PR\, United Kingdom
CATEGORIES:Active,All,Social
END:VEVENT
BEGIN:VEVENT
DTSTART;TZID=Europe/Paris:20230910T200000
DTEND;TZID=Europe/Paris:20230910T220000
DTSTAMP:20260421T132348
CREATED:20230830T215304Z
LAST-MODIFIED:20230830T224519Z
UID:4965-1694376000-1694383200@aldermastonrugby.co.uk
SUMMARY:Pool C - Wales Vs Fiji
DESCRIPTION:On Sunday\, 9/10/2023 at 20:00\, immerse yourself in the gripping match between Wales and Fiji at Aldermaston Recreational Society. The venue buzzes with excitement\, making it an ideal spot to catch up with friends and fellow fans. Share in the collective thrill\, grab a drink\, and celebrate every moment of the game.
URL:https://aldermastonrugby.co.uk/event/pool-c-wales-vs-fiji/
LOCATION:Aldermaston Rec Soc\, Aldermaston Recreational Society\, Aldermaston\, Berkshire\, RG7 4PR\, United Kingdom
CATEGORIES:Active,All,Social
END:VEVENT
BEGIN:VEVENT
DTSTART;TZID=Europe/Paris:20230910T163000
DTEND;TZID=Europe/Paris:20230910T183000
DTSTAMP:20260421T132348
CREATED:20230830T215145Z
LAST-MODIFIED:20230830T224107Z
UID:4963-1694363400-1694370600@aldermastonrugby.co.uk
SUMMARY:Pool B - South Africa Vs Scotland
DESCRIPTION:The excitement continues on Sunday\, 9/10/2023 at 16:45\, as South Africa faces Scotland at Aldermaston Recreational Society. The venue’s atmosphere is unparalleled\, ensuring fans are in for a treat. It’s the perfect setting to meet up\, share a drink\, and enjoy the game with fellow enthusiasts.
URL:https://aldermastonrugby.co.uk/event/pool-b-south-africa-vs-scotland/
LOCATION:Aldermaston Rec Soc\, Aldermaston Recreational Society\, Aldermaston\, Berkshire\, RG7 4PR\, United Kingdom
CATEGORIES:Active,All,Social
END:VEVENT
BEGIN:VEVENT
DTSTART;TZID=Europe/Paris:20230910T120000
DTEND;TZID=Europe/Paris:20230910T143000
DTSTAMP:20260421T132348
CREATED:20230830T215035Z
LAST-MODIFIED:20230830T224032Z
UID:4961-1694347200-1694356200@aldermastonrugby.co.uk
SUMMARY:Pool D - Japan Vs Chile
DESCRIPTION:Kick off your Sunday on 9/10/2023 at 12:00 by watching Japan compete against Chile at Aldermaston Recreational Society. The venue is known for its infectious energy\, making it the perfect spot for a day out with friends. Enjoy the social element\, have a drink\, and immerse yourself in the game’s excitement with fellow fans.
URL:https://aldermastonrugby.co.uk/event/pool-d-japan-vs-chile/
LOCATION:Aldermaston Rec Soc\, Aldermaston Recreational Society\, Aldermaston\, Berkshire\, RG7 4PR\, United Kingdom
CATEGORIES:Active,All,Social
END:VEVENT
BEGIN:VEVENT
DTSTART;TZID=Europe/Paris:20230909T200000
DTEND;TZID=Europe/Paris:20230909T220000
DTSTAMP:20260421T132348
CREATED:20230830T214924Z
LAST-MODIFIED:20230830T214924Z
UID:4959-1694289600-1694296800@aldermastonrugby.co.uk
SUMMARY:Pool D - England Vs Argentina
DESCRIPTION:Concluding the day’s events on Saturday\, 9/9/2023 at 20:00\, England will take on Argentina at Aldermaston Rugby Club. The venue is a hub of excitement and camaraderie\, offering fans a chance to connect and share their passion. Don’t miss this chance to be part of an unforgettable experience\, complete with drinks\, friends\, and thrilling gameplay.
URL:https://aldermastonrugby.co.uk/event/pool-d-england-vs-argentina/
LOCATION:Aldermaston RFC\, Aldermaston Rugby Club\, AWE\, Aldermaston\, RG7 4PR\, United Kingdom
CATEGORIES:Active,All,Social
END:VEVENT
BEGIN:VEVENT
DTSTART;TZID=Europe/Paris:20230909T170000
DTEND;TZID=Europe/Paris:20230909T190000
DTSTAMP:20260421T132348
CREATED:20230830T214755Z
LAST-MODIFIED:20230830T214755Z
UID:4957-1694278800-1694286000@aldermastonrugby.co.uk
SUMMARY:Pool C - Australia Vs Georgia
DESCRIPTION:he action doesn’t stop! On Saturday\, 9/9/2023 at 17:00\, Australia and Georgia will go head-to-head at Aldermaston Rugby Club. The venue’s lively atmosphere guarantees an exhilarating experience\, making it a must-visit for fans. Gather your friends\, enjoy a drink\, and bond over the love of the game.
URL:https://aldermastonrugby.co.uk/event/pool-c-australia-vs-georgia/
LOCATION:Aldermaston RFC\, Aldermaston Rugby Club\, AWE\, Aldermaston\, RG7 4PR\, United Kingdom
CATEGORIES:Active,All,Social
END:VEVENT
BEGIN:VEVENT
DTSTART;TZID=Europe/Paris:20230909T150000
DTEND;TZID=Europe/Paris:20230909T180000
DTSTAMP:20260421T132348
CREATED:20230830T182619Z
LAST-MODIFIED:20230904T165232Z
UID:4853-1694271600-1694282400@aldermastonrugby.co.uk
SUMMARY:Aldermaston XV Vs Drifters XV
DESCRIPTION:🏉 Aldermaston XV vs. DRIFTERS 🏉\nJoin us for a thrilling Saturday as Aldermaston XV takes on the mighty DRIFTERS! Dive into the world of rugby where every pass\, tackle\, and try counts. Don’t miss out on this epic showdown that promises heart-stopping moments and pure rugby magic!
URL:https://aldermastonrugby.co.uk/event/aldermaston-xv-vs-drifters-xv/
LOCATION:Drifters\, Farnham Common Sports Club\, One Pin Ln\, Farnham Common\, Slough\, SL2 3QY\, United Kingdom
END:VEVENT
BEGIN:VEVENT
DTSTART;TZID=Europe/Paris:20230909T143000
DTEND;TZID=Europe/Paris:20230909T163000
DTSTAMP:20260421T132348
CREATED:20230830T214653Z
LAST-MODIFIED:20230830T214653Z
UID:4955-1694269800-1694277000@aldermastonrugby.co.uk
SUMMARY:Pool B - Ireland Vs Romania
DESCRIPTION:Don’t miss out on Saturday\, 9/9/2023 at 14:30\, when Ireland challenges Romania at Aldermaston Rugby Club. The venue is renowned for its vibrant ambiance\, ensuring an unforgettable experience. It’s the perfect opportunity to socialize\, share a toast with friends\, and revel in the shared passion for the sport.
URL:https://aldermastonrugby.co.uk/event/pool-b-ireland-vs-romania/
LOCATION:Aldermaston RFC\, Aldermaston Rugby Club\, AWE\, Aldermaston\, RG7 4PR\, United Kingdom
CATEGORIES:Active,All,Social
END:VEVENT
BEGIN:VEVENT
DTSTART;TZID=Europe/Paris:20230909T120000
DTEND;TZID=Europe/Paris:20230909T140000
DTSTAMP:20260421T132348
CREATED:20230830T214549Z
LAST-MODIFIED:20230830T214549Z
UID:4953-1694260800-1694268000@aldermastonrugby.co.uk
SUMMARY:Pool A - Italy Vs Namibia
DESCRIPTION:The excitement continues on Saturday\, 9/9/2023 at 12:00\, as Italy faces off against Namibia at Aldermaston Rugby Club. There’s nothing quite like the collective energy of fans coming together\, making it an ideal social gathering spot. Share the anticipation\, discuss game strategies\, and enjoy the company of like-minded individuals.
URL:https://aldermastonrugby.co.uk/event/pool-a-italy-vs-namibia/
LOCATION:Aldermaston RFC\, Aldermaston Rugby Club\, AWE\, Aldermaston\, RG7 4PR\, United Kingdom
CATEGORIES:Active,All,Social
END:VEVENT
BEGIN:VEVENT
DTSTART;TZID=Europe/Paris:20230908T200000
DTEND;TZID=Europe/Paris:20230908T213000
DTSTAMP:20260421T132348
CREATED:20230830T214358Z
LAST-MODIFIED:20230904T165348Z
UID:4951-1694203200-1694208600@aldermastonrugby.co.uk
SUMMARY:Pool A - France Vs New Zealand
DESCRIPTION:On Friday\, 9/8/2023 at 20:15\, witness the thrilling match between France and New Zealand at the Aldermaston Rugby Club. The venue promises an electrifying atmosphere\, making it the perfect place to meet up with friends\, grab a drink\, and immerse yourself in the game. Join fellow enthusiasts and experience the camaraderie of cheering for your favorite team.
URL:https://aldermastonrugby.co.uk/event/pool-a-france-vs-new-zealand/
LOCATION:Aldermaston RFC\, Aldermaston Rugby Club\, AWE\, Aldermaston\, RG7 4PR\, United Kingdom
CATEGORIES:Active,All,Social
END:VEVENT
BEGIN:VEVENT
DTSTART;TZID=Europe/Paris:20230902T150000
DTEND;TZID=Europe/Paris:20230902T180000
DTSTAMP:20260421T132348
CREATED:20230830T180945Z
LAST-MODIFIED:20230830T180945Z
UID:4851-1693666800-1693677600@aldermastonrugby.co.uk
SUMMARY:Aldermaston XV Vs Marlow 2nd XV
DESCRIPTION:🏉 Rugby Showdown Alert! 🏉 \nGet ready for an electrifying Saturday as the Aldermaston XV Rugby team clashes with Marlow 2nd XV! Witness the raw passion\, fierce tackles\, and thrilling tries as the two club-level teams go head-to-head on the pitch. Feel the adrenaline\, hear the roar of the crowd\, and be part of a sporting spectacle that promises non-stop action. Whether you’re a die-hard rugby fan or new to the game\, this is one match you won’t want to miss. So\, grab your friends\, don your team colors\, and join us for a Saturday filled with excitement\, camaraderie\, and top-tier rugby action! 🎉🏆🔥
URL:https://aldermastonrugby.co.uk/event/aldermaston-xv-vs-marlow-2nd-xv/
LOCATION:Aldermaston RFC\, Aldermaston Rugby Club\, AWE\, Aldermaston\, RG7 4PR\, United Kingdom
CATEGORIES:Active,All,Game
END:VEVENT
BEGIN:VEVENT
DTSTART;TZID=Europe/Paris:20230809T173000
DTEND;TZID=Europe/Paris:20230809T193000
DTSTAMP:20260421T132348
CREATED:20230723T202635Z
LAST-MODIFIED:20240117T132558Z
UID:4813-1691602200-1691609400@aldermastonrugby.co.uk
SUMMARY:Aldermaston's 2023 Touch Tournament
DESCRIPTION:Wednesday 26th July\, 17:30\nCome join us at the annual ARFC summer touch tournament. A great event every year that has been a huge success. Grab your mates and sign a team up to the day.
URL:https://aldermastonrugby.co.uk/event/aldermaston-2023-touch-tournament/
LOCATION:Aldermaston RFC\, Aldermaston Rugby Club\, AWE\, Aldermaston\, RG7 4PR\, United Kingdom
CATEGORIES:Active,All,Game,Social
ATTACH;FMTTYPE=image/jpeg:https://aldermastonrugby.co.uk/wp-content/uploads/2023/07/Community-Fitness-1-Large.jpeg
END:VEVENT
BEGIN:VEVENT
DTSTART;TZID=Europe/Paris:20230708T100000
DTEND;TZID=Europe/Paris:20230812T110000
DTSTAMP:20260421T132348
CREATED:20230703T222510Z
LAST-MODIFIED:20230703T233247Z
UID:4644-1688810400-1691838000@aldermastonrugby.co.uk
SUMMARY:Aldermaston Community Rugby Fitness Sessions
DESCRIPTION:Here at ARFC we are running a number of community fitness sessions. These sessions are running 10:00 am to 11:00 am (1 hour) each Saturday from the 8th of July through to the 12th of August. \nThese sessions are open to Men\, Women\, and Children of all ages as part of a social and community (and fitness) building activity. We encourage all to come along\, and the sessions will be tailored to accommodate all capabilities whilst remaining fun. \nWe have been working closely with our partner Inner Athlete Gym (https://innerathlete.co.uk/) to create a fun and accessible fitness program for all. This will be great for anyone looking to kick off their fitness journey\, get involved with a welcoming club\, get a gentle introduction to Rugby fitness (ahead of pre-season) or just a chance to have some fun in the sunshine. \nCheck out our page here for more details\, we hope to see you soon!
URL:https://aldermastonrugby.co.uk/event/aldermaston-community-rugby-fitness-sessions/
LOCATION:Aldermaston RFC\, Aldermaston Rugby Club\, AWE\, Aldermaston\, RG7 4PR\, United Kingdom
CATEGORIES:Active,All,Social
END:VEVENT
END:VCALENDAR