BEGIN:VCALENDAR
VERSION:2.0
PRODID:-//ARFC - Aldermaston Rugby Football Club - ECPv6.15.20//NONSGML v1.0//EN
CALSCALE:GREGORIAN
METHOD:PUBLISH
X-WR-CALNAME:ARFC - Aldermaston Rugby Football Club
X-ORIGINAL-URL:https://aldermastonrugby.co.uk
X-WR-CALDESC:Events for ARFC - Aldermaston Rugby Football Club
REFRESH-INTERVAL;VALUE=DURATION:PT1H
X-Robots-Tag:noindex
X-PUBLISHED-TTL:PT1H
BEGIN:VTIMEZONE
TZID:Europe/Paris
BEGIN:DAYLIGHT
TZOFFSETFROM:+0100
TZOFFSETTO:+0200
TZNAME:CEST
DTSTART:20220327T010000
END:DAYLIGHT
BEGIN:STANDARD
TZOFFSETFROM:+0200
TZOFFSETTO:+0100
TZNAME:CET
DTSTART:20221030T010000
END:STANDARD
BEGIN:DAYLIGHT
TZOFFSETFROM:+0100
TZOFFSETTO:+0200
TZNAME:CEST
DTSTART:20230326T010000
END:DAYLIGHT
BEGIN:STANDARD
TZOFFSETFROM:+0200
TZOFFSETTO:+0100
TZNAME:CET
DTSTART:20231029T010000
END:STANDARD
BEGIN:DAYLIGHT
TZOFFSETFROM:+0100
TZOFFSETTO:+0200
TZNAME:CEST
DTSTART:20240331T010000
END:DAYLIGHT
BEGIN:STANDARD
TZOFFSETFROM:+0200
TZOFFSETTO:+0100
TZNAME:CET
DTSTART:20241027T010000
END:STANDARD
END:VTIMEZONE
BEGIN:VTIMEZONE
TZID:UTC
BEGIN:STANDARD
TZOFFSETFROM:+0000
TZOFFSETTO:+0000
TZNAME:UTC
DTSTART:20210101T000000
END:STANDARD
END:VTIMEZONE
BEGIN:VEVENT
DTSTART;TZID=Europe/Paris:20231202T140000
DTEND;TZID=Europe/Paris:20231202T170000
DTSTAMP:20260423T213835
CREATED:20230830T185522Z
LAST-MODIFIED:20230904T165715Z
UID:4878-1701525600-1701536400@aldermastonrugby.co.uk
SUMMARY:Aldermaston XV Vs. Henley 3s
DESCRIPTION:🏉 Aldermaston XV vs. HENLEY 3 🏉\nRugby enthusiasts\, rejoice! Aldermaston XV is clashing with HENLEY 3 in a match that’s bound to keep you on the edge of your seat. Experience the highs\, the lows\, and the sheer thrill of the game. Don’t miss out on this epic battle!
URL:https://aldermastonrugby.co.uk/event/aldermaston-xv-vs-henley-3s/
LOCATION:Henley RFC
CATEGORIES:Active,All,Game
END:VEVENT
BEGIN:VEVENT
DTSTART;TZID=Europe/Paris:20231118T140000
DTEND;TZID=Europe/Paris:20231118T180000
DTSTAMP:20260423T213835
CREATED:20230830T185239Z
LAST-MODIFIED:20230904T165708Z
UID:4875-1700316000-1700330400@aldermastonrugby.co.uk
SUMMARY:Aldermaston XV Vs. Windsor 2s
DESCRIPTION:🏉 Aldermaston XV vs. WINDSOR 2 🏉\nThe stage is set for a rugby extravaganza! Aldermaston XV is facing off against WINDSOR 2. Dive into the action\, feel the rush\, and witness the sheer power of rugby. This Saturday\, be there to cheer\, support\, and celebrate!
URL:https://aldermastonrugby.co.uk/event/aldermaston-xv-vs-windsor-2s/
LOCATION:Aldermaston RFC\, Aldermaston Rugby Club\, AWE\, Aldermaston\, RG7 4PR\, United Kingdom
CATEGORIES:Active,All,Game
END:VEVENT
BEGIN:VEVENT
DTSTART;TZID=Europe/Paris:20231104T140000
DTEND;TZID=Europe/Paris:20231104T180000
DTSTAMP:20260423T213835
CREATED:20230830T184737Z
LAST-MODIFIED:20230904T165702Z
UID:4872-1699106400-1699120800@aldermastonrugby.co.uk
SUMMARY:Aldermaston XV Vs. Tadley 2s
DESCRIPTION:🏉 Aldermaston XV vs. TADLEY 2 🏉\nThe countdown has begun! Aldermaston XV is ready to take on TADLEY 2 in a match that promises to be a feast for rugby lovers. Feel the passion\, the drama\, and the intensity. Join us and be part of this grand spectacle!
URL:https://aldermastonrugby.co.uk/event/aldermaston-xv-vs-tadley-2s/
LOCATION:Tadley RFC
CATEGORIES:Active,All,Game
END:VEVENT
BEGIN:VEVENT
DTSTART;TZID=Europe/Paris:20231021T140000
DTEND;TZID=Europe/Paris:20231021T180000
DTSTAMP:20260423T213835
CREATED:20230830T184533Z
LAST-MODIFIED:20230904T165654Z
UID:4870-1697896800-1697911200@aldermastonrugby.co.uk
SUMMARY:Aldermaston XV Vs. Amersham & Chiltern 2s
DESCRIPTION:🏉 Aldermaston XV vs. AMERSHAM & CHILTERN 2 🏉 The atmosphere is electric! Aldermaston XV is up against AMERSHAM & CHILTERN 2 this Saturday. Experience the thrill\, the tackles\, and the glory as these two teams vie for victory. Don’t be told about it; be there to see it!
URL:https://aldermastonrugby.co.uk/event/aldermaston-xv-vs-amersham-chiltern-2s/
LOCATION:Aldermaston RFC\, Aldermaston Rugby Club\, AWE\, Aldermaston\, RG7 4PR\, United Kingdom
CATEGORIES:Active,All,Game
END:VEVENT
BEGIN:VEVENT
DTSTART;TZID=Europe/Paris:20231014T143000
DTEND;TZID=Europe/Paris:20231014T180000
DTSTAMP:20260423T213835
CREATED:20230830T184329Z
LAST-MODIFIED:20230904T165606Z
UID:4867-1697293800-1697306400@aldermastonrugby.co.uk
SUMMARY:Aldermaston XV Vs. Reading 2s
DESCRIPTION:🏉 Aldermaston XV vs. READING 2 🏉\nThe excitement is palpable as Aldermaston XV prepares to face READING 2. Witness the sheer determination\, skill\, and spirit of rugby in this epic encounter. Rally behind your team and be part of the action!
URL:https://aldermastonrugby.co.uk/event/aldermaston-xv-vs-reading-2s/
LOCATION:Reading RFC
CATEGORIES:Active,All,Game
END:VEVENT
BEGIN:VEVENT
DTSTART;TZID=Europe/Paris:20230930T150000
DTEND;TZID=Europe/Paris:20230930T180000
DTSTAMP:20260423T213835
CREATED:20230830T183332Z
LAST-MODIFIED:20230904T165545Z
UID:4865-1696086000-1696096800@aldermastonrugby.co.uk
SUMMARY:Aldermaston XV Vs. Phoenix XV
DESCRIPTION:🏉 Aldermaston XV vs. PHOENIX 🏉\nGet ready for a sizzling Saturday! Aldermaston XV is challenging PHOENIX in a match that promises to be a rollercoaster of emotions. From breathtaking tries to nail-biting finishes\, this is one game you won’t want to miss!
URL:https://aldermastonrugby.co.uk/event/aldermaston-xv-vs-phoenix-xv/
LOCATION:Aldermaston RFC\, Aldermaston Rugby Club\, AWE\, Aldermaston\, RG7 4PR\, United Kingdom
CATEGORIES:Active,All,Game
END:VEVENT
BEGIN:VEVENT
DTSTART;TZID=Europe/Paris:20230916T150000
DTEND;TZID=Europe/Paris:20230916T180000
DTSTAMP:20260423T213835
CREATED:20230830T182917Z
LAST-MODIFIED:20230915T092414Z
UID:4857-1694876400-1694887200@aldermastonrugby.co.uk
SUMMARY:Aldermaston XV Vs\, Bracknell 3s
DESCRIPTION:🏉 Aldermaston XV vs. BRACKNELL 3 🏉\nThe pitch is set and the stakes are high! Aldermaston XV is gearing up to face BRACKNELL 3 this Saturday. Witness the clash of titans\, where strategy meets strength. Be there to cheer\, shout\, and experience rugby like never before!
URL:https://aldermastonrugby.co.uk/event/aldermaston-xv-vs-bracknell-3s/
LOCATION:Aldermaston RFC\, Aldermaston Rugby Club\, AWE\, Aldermaston\, RG7 4PR\, United Kingdom
CATEGORIES:Active,All,Game
END:VEVENT
BEGIN:VEVENT
DTSTART;TZID=Europe/Paris:20230902T150000
DTEND;TZID=Europe/Paris:20230902T180000
DTSTAMP:20260423T213835
CREATED:20230830T180945Z
LAST-MODIFIED:20230830T180945Z
UID:4851-1693666800-1693677600@aldermastonrugby.co.uk
SUMMARY:Aldermaston XV Vs Marlow 2nd XV
DESCRIPTION:🏉 Rugby Showdown Alert! 🏉 \nGet ready for an electrifying Saturday as the Aldermaston XV Rugby team clashes with Marlow 2nd XV! Witness the raw passion\, fierce tackles\, and thrilling tries as the two club-level teams go head-to-head on the pitch. Feel the adrenaline\, hear the roar of the crowd\, and be part of a sporting spectacle that promises non-stop action. Whether you’re a die-hard rugby fan or new to the game\, this is one match you won’t want to miss. So\, grab your friends\, don your team colors\, and join us for a Saturday filled with excitement\, camaraderie\, and top-tier rugby action! 🎉🏆🔥
URL:https://aldermastonrugby.co.uk/event/aldermaston-xv-vs-marlow-2nd-xv/
LOCATION:Aldermaston RFC\, Aldermaston Rugby Club\, AWE\, Aldermaston\, RG7 4PR\, United Kingdom
CATEGORIES:Active,All,Game
END:VEVENT
BEGIN:VEVENT
DTSTART;TZID=Europe/Paris:20230809T173000
DTEND;TZID=Europe/Paris:20230809T193000
DTSTAMP:20260423T213835
CREATED:20230723T202635Z
LAST-MODIFIED:20240117T132558Z
UID:4813-1691602200-1691609400@aldermastonrugby.co.uk
SUMMARY:Aldermaston's 2023 Touch Tournament
DESCRIPTION:Wednesday 26th July\, 17:30\nCome join us at the annual ARFC summer touch tournament. A great event every year that has been a huge success. Grab your mates and sign a team up to the day.
URL:https://aldermastonrugby.co.uk/event/aldermaston-2023-touch-tournament/
LOCATION:Aldermaston RFC\, Aldermaston Rugby Club\, AWE\, Aldermaston\, RG7 4PR\, United Kingdom
CATEGORIES:Active,All,Game,Social
ATTACH;FMTTYPE=image/jpeg:https://aldermastonrugby.co.uk/wp-content/uploads/2023/07/Community-Fitness-1-Large.jpeg
END:VEVENT
BEGIN:VEVENT
DTSTART;TZID=UTC:20221212T150000
DTEND;TZID=UTC:20221212T170000
DTSTAMP:20260423T213835
CREATED:20221019T181853Z
LAST-MODIFIED:20221019T181958Z
UID:4281-1670857200-1670864400@aldermastonrugby.co.uk
SUMMARY:Aldermaston Vs Tadley Away
DESCRIPTION:
URL:https://aldermastonrugby.co.uk/event/aldermaston-vs-tadley/
LOCATION:Tadley RFC
CATEGORIES:Active,Game
END:VEVENT
BEGIN:VEVENT
DTSTART;TZID=UTC:20221203T150000
DTEND;TZID=UTC:20221203T170000
DTSTAMP:20260423T213835
CREATED:20221019T181935Z
LAST-MODIFIED:20221019T181935Z
UID:4283-1670079600-1670086800@aldermastonrugby.co.uk
SUMMARY:Aldermaston Vs Abingdon Away
DESCRIPTION:
URL:https://aldermastonrugby.co.uk/event/aldermaston-vs-abingdon-away/
LOCATION:Abingdon RFC
CATEGORIES:Active,Game
END:VEVENT
BEGIN:VEVENT
DTSTART;TZID=UTC:20221105T150000
DTEND;TZID=UTC:20221105T170000
DTSTAMP:20260423T213835
CREATED:20221019T181745Z
LAST-MODIFIED:20221021T111316Z
UID:4279-1667660400-1667667600@aldermastonrugby.co.uk
SUMMARY:Aldermaston Vs Slough Home
DESCRIPTION:
URL:https://aldermastonrugby.co.uk/event/aldermaston-vs-slough/
LOCATION:Aldermaston RFC\, Aldermaston Rugby Club\, AWE\, Aldermaston\, RG7 4PR\, United Kingdom
CATEGORIES:Active,Game
END:VEVENT
BEGIN:VEVENT
DTSTART;TZID=UTC:20221029T150000
DTEND;TZID=UTC:20221029T170000
DTSTAMP:20260423T213835
CREATED:20221019T181535Z
LAST-MODIFIED:20221021T111258Z
UID:4274-1667055600-1667062800@aldermastonrugby.co.uk
SUMMARY:Aldermaston Vs Rams III Home
DESCRIPTION:
URL:https://aldermastonrugby.co.uk/event/aldermaston-vs-rams-iii/
LOCATION:Aldermaston RFC\, Aldermaston Rugby Club\, AWE\, Aldermaston\, RG7 4PR\, United Kingdom
CATEGORIES:Active,Game
END:VEVENT
BEGIN:VEVENT
DTSTART;TZID=UTC:20221022T150000
DTEND;TZID=UTC:20221022T170000
DTSTAMP:20260423T213835
CREATED:20221017T213449Z
LAST-MODIFIED:20221019T182027Z
UID:4017-1666450800-1666458000@aldermastonrugby.co.uk
SUMMARY:Aldermaston Vs Maidenhead III Home
DESCRIPTION:
URL:https://aldermastonrugby.co.uk/event/aldermaston-vs-maidenhead-iii/
LOCATION:Aldermaston RFC\, Aldermaston Rugby Club\, AWE\, Aldermaston\, RG7 4PR\, United Kingdom
CATEGORIES:Active,Game
END:VEVENT
BEGIN:VEVENT
DTSTART;TZID=UTC:20221015T150000
DTEND;TZID=UTC:20221015T163000
DTSTAMP:20260423T213835
CREATED:20221015T214715Z
LAST-MODIFIED:20221017T213215Z
UID:3836-1665846000-1665851400@aldermastonrugby.co.uk
SUMMARY:Aldermaston Vs Hungerford
DESCRIPTION:
URL:https://aldermastonrugby.co.uk/event/aldermaston-vs-hungerford/
LOCATION:Hungerford RFC
CATEGORIES:Active,Game
END:VEVENT
END:VCALENDAR